BEGIN:VCALENDAR
VERSION:2.0
PRODID:-//Markaut//Trade Fair Calendar//EN
CALSCALE:GREGORIAN
METHOD:PUBLISH
BEGIN:VEVENT
UID:furniture-china-shanghai-china-peoples-republic@markaut.com
DTSTAMP:20260425T001641Z
DTSTART;VALUE=DATE:20260901
DTEND;VALUE=DATE:20260902
SUMMARY:FURNITURE CHINA
LOCATION:SNIEC - Shanghai New International Expo Centre, Shanghai, China, People\'s Republic
DESCRIPTION:China International Furniture Expo
URL:https://www.markaut.com/hi/fairs/furniture-china-shanghai-china-peoples-republic/
END:VEVENT
END:VCALENDAR
