BEGIN:VCALENDAR
VERSION:2.0
PRODID:-//Markaut//Trade Fair Calendar//EN
CALSCALE:GREGORIAN
METHOD:PUBLISH
BEGIN:VEVENT
UID:expobiogaz-lyon-france@markaut.com
DTSTAMP:20260421T170916Z
DTSTART;VALUE=DATE:20260421
DTEND;VALUE=DATE:20260422
SUMMARY:ExpoBiogaz
LOCATION:EUREXPO - Centre de Conventions et d\'Expositions de Lyon, Lyon, France
DESCRIPTION:The trade show dedicated to renewable gas
URL:https://www.markaut.com/hi/fairs/expobiogaz-lyon-france/
END:VEVENT
END:VCALENDAR
