BEGIN:VCALENDAR
VERSION:2.0
PRODID:-//Markaut//Trade Fair Calendar//EN
CALSCALE:GREGORIAN
METHOD:PUBLISH
BEGIN:VEVENT
UID:eurocucina-milan-italy@markaut.com
DTSTAMP:20260423T034317Z
DTSTART;VALUE=DATE:20280401
DTEND;VALUE=DATE:20280402
SUMMARY:EUROCUCINA
LOCATION:fieramilano (Rho), Milan, Italy
DESCRIPTION:International Kitchen Furniture Exhibition
URL:https://www.markaut.com/hi/fairs/eurocucina-milan-italy/
END:VEVENT
END:VCALENDAR
