BEGIN:VCALENDAR
VERSION:2.0
PRODID:-//Markaut//Trade Fair Calendar//EN
CALSCALE:GREGORIAN
METHOD:PUBLISH
BEGIN:VEVENT
UID:cmp-not-yet-determined-mexico@markaut.com
DTSTAMP:20260419T215108Z
DTSTART;VALUE=DATE:20270601
DTEND;VALUE=DATE:20270602
SUMMARY:CMP
LOCATION:noch offen/not yet determined, not yet determined, Mexico
DESCRIPTION:Mexican Petroleum Congress
URL:https://www.markaut.com/hi/fairs/cmp-not-yet-determined-mexico/
END:VEVENT
END:VCALENDAR
