BEGIN:VCALENDAR
VERSION:2.0
PRODID:-//Markaut//Trade Fair Calendar//EN
CALSCALE:GREGORIAN
METHOD:PUBLISH
BEGIN:VEVENT
UID:china-toy-expo-shanghai-china-peoples-republic@markaut.com
DTSTAMP:20260419T185709Z
DTSTART;VALUE=DATE:20260419
DTEND;VALUE=DATE:20260420
SUMMARY:China Toy Expo
LOCATION:SNIEC - Shanghai New International Expo Centre, Shanghai, China, People\'s Republic
DESCRIPTION:International Trade Fair for Toys & Preschool Educational Resources
URL:https://www.markaut.com/hi/fairs/china-toy-expo-shanghai-china-peoples-republic/
END:VEVENT
END:VCALENDAR
