BEGIN:VCALENDAR
VERSION:2.0
PRODID:-//Markaut//Trade Fair Calendar//EN
CALSCALE:GREGORIAN
METHOD:PUBLISH
BEGIN:VEVENT
UID:camping-picnic-fair-goyang-seoul-korea-republic@markaut.com
DTSTAMP:20260423T220502Z
DTSTART;VALUE=DATE:20260424
DTEND;VALUE=DATE:20260425
SUMMARY:Camping & Picnic Fair
LOCATION:KINTEX Korea International Exhibition Center, Goyang/Seoul, Korea, Republic
DESCRIPTION:
URL:https://www.markaut.com/hi/fairs/camping-picnic-fair-goyang-seoul-korea-republic/
END:VEVENT
END:VCALENDAR
