BEGIN:VCALENDAR
VERSION:2.0
PRODID:-//Markaut//Trade Fair Calendar//EN
CALSCALE:GREGORIAN
METHOD:PUBLISH
BEGIN:VEVENT
UID:automesse-salzburg-salzburg-austria@markaut.com
DTSTAMP:20260419T151602Z
DTSTART;VALUE=DATE:20260419
DTEND;VALUE=DATE:20260420
SUMMARY:Automesse Salzburg
LOCATION:Messezentrum Salzburg, Salzburg, Austria
DESCRIPTION:Car Exhibition
URL:https://www.markaut.com/hi/fairs/automesse-salzburg-salzburg-austria/
END:VEVENT
END:VCALENDAR
