BEGIN:VCALENDAR
VERSION:2.0
PRODID:-//Markaut//Trade Fair Calendar//EN
CALSCALE:GREGORIAN
METHOD:PUBLISH
BEGIN:VEVENT
UID:all-in-caravaning-beijing-china-peoples-republic@markaut.com
DTSTAMP:20260423T214932Z
DTSTART;VALUE=DATE:20270501
DTEND;VALUE=DATE:20270502
SUMMARY:All in CARAVANING
LOCATION:Shougang Convention & Exhibition Center, Beijing, China, People\'s Republic
DESCRIPTION:Compass of China Caravaning and Camping Industry
URL:https://www.markaut.com/hi/fairs/all-in-caravaning-beijing-china-peoples-republic/
END:VEVENT
END:VCALENDAR
