BEGIN:VCALENDAR
VERSION:2.0
PRODID:-//Markaut//Trade Fair Calendar//EN
CALSCALE:GREGORIAN
METHOD:PUBLISH
BEGIN:VEVENT
UID:meditex-dhaka-bangladesh@markaut.com
DTSTAMP:20260424T111837Z
DTSTART;VALUE=DATE:20260507
DTEND;VALUE=DATE:20260510
SUMMARY:MEDITEX
LOCATION:International Convention City Bashundhara, Dhaka, Bangladesh
DESCRIPTION:International Exhibition on Medical Equipments, Surgical Instruments, Healthcare, Hospital Equipments & Supplies
URL:https://www.markaut.com/fr/fairs/meditex-dhaka-bangladesh/
END:VEVENT
END:VCALENDAR
