BEGIN:VCALENDAR
VERSION:2.0
PRODID:-//Markaut//Trade Fair Calendar//EN
CALSCALE:GREGORIAN
METHOD:PUBLISH
BEGIN:VEVENT
UID:eu-pvsec-rotterdam-netherlands@markaut.com
DTSTAMP:20260421T085511Z
DTSTART;VALUE=DATE:20260421
DTEND;VALUE=DATE:20260422
SUMMARY:EU PVSEC
LOCATION:WTC, Rotterdam, Netherlands
DESCRIPTION:European Photovoltaic Solar Energy Conference and Exhibition
URL:https://www.markaut.com/fr/fairs/eu-pvsec-rotterdam-netherlands/
END:VEVENT
END:VCALENDAR
