BEGIN:VCALENDAR
VERSION:2.0
PRODID:-//Markaut//Trade Fair Calendar//EN
CALSCALE:GREGORIAN
METHOD:PUBLISH
BEGIN:VEVENT
UID:electronica-transport-within-russian-urban-mobility-week-moscow-russia@markaut.com
DTSTAMP:20260422T063447Z
DTSTART;VALUE=DATE:20260609
DTEND;VALUE=DATE:20260612
SUMMARY:Electronica-Transport (within Russian Urban Mobility Week)
LOCATION:EXPOCENTRE, Moscow, Russia
DESCRIPTION:Russian specialised Exhibition & Conference on modern Electronics for Transport & Transport Communications
URL:https://www.markaut.com/fr/fairs/electronica-transport-within-russian-urban-mobility-week-moscow-russia/
END:VEVENT
END:VCALENDAR
