BEGIN:VCALENDAR
VERSION:2.0
PRODID:-//Markaut//Trade Fair Calendar//EN
CALSCALE:GREGORIAN
METHOD:PUBLISH
BEGIN:VEVENT
UID:carrefour-de-leau-rennes-france@markaut.com
DTSTAMP:20260419T195305Z
DTSTART;VALUE=DATE:20260419
DTEND;VALUE=DATE:20260420
SUMMARY:Carrefour de l\'Eau
LOCATION:Parc des Expositions, Rennes, France
DESCRIPTION:
URL:https://www.markaut.com/fr/fairs/carrefour-de-leau-rennes-france/
END:VEVENT
END:VCALENDAR
