BEGIN:VCALENDAR
VERSION:2.0
PRODID:-//Markaut//Trade Fair Calendar//EN
CALSCALE:GREGORIAN
METHOD:PUBLISH
BEGIN:VEVENT
UID:australian-healthcare-week-sydney-australia@markaut.com
DTSTAMP:20260421T085608Z
DTSTART;VALUE=DATE:20260421
DTEND;VALUE=DATE:20260422
SUMMARY:Australian Healthcare Week
LOCATION:ICC Sydney, Darling Harbour, Sydney, Australia
DESCRIPTION:
URL:https://www.markaut.com/fr/fairs/australian-healthcare-week-sydney-australia/
END:VEVENT
END:VCALENDAR
