BEGIN:VCALENDAR
VERSION:2.0
PRODID:-//Markaut//Trade Fair Calendar//EN
CALSCALE:GREGORIAN
METHOD:PUBLISH
BEGIN:VEVENT
UID:all-energy-australia-melbourne-australia@markaut.com
DTSTAMP:20260421T171027Z
DTSTART;VALUE=DATE:20260421
DTEND;VALUE=DATE:20260422
SUMMARY:All Energy Australia
LOCATION:Melbourne Convention & Exhibition Centre, Melbourne, Australia
DESCRIPTION:
URL:https://www.markaut.com/fr/fairs/all-energy-australia-melbourne-australia/
END:VEVENT
END:VCALENDAR
