BEGIN:VCALENDAR
VERSION:2.0
PRODID:-//Markaut//Trade Fair Calendar//EN
CALSCALE:GREGORIAN
METHOD:PUBLISH
BEGIN:VEVENT
UID:sport-life-within-life-festival-brno-czechia@markaut.com
DTSTAMP:20260424T095432Z
DTSTART;VALUE=DATE:20271101
DTEND;VALUE=DATE:20271102
SUMMARY:SPORT LIFE (within LIFE! Festival)
LOCATION:BVV Veletrhy Brno/BVV Trade Fairs Brno, Brno, Czechia
DESCRIPTION:Festival of sports, dances and entertainment
URL:https://www.markaut.com/fi/fairs/sport-life-within-life-festival-brno-czechia/
END:VEVENT
END:VCALENDAR
