BEGIN:VCALENDAR
VERSION:2.0
PRODID:-//Markaut//Trade Fair Calendar//EN
CALSCALE:GREGORIAN
METHOD:PUBLISH
BEGIN:VEVENT
UID:sara-abidjan-c-te-divoire@markaut.com
DTSTAMP:20260420T081200Z
DTSTART;VALUE=DATE:20271101
DTEND;VALUE=DATE:20271102
SUMMARY:SARA
LOCATION:Boulevard de Aeroport, Abidjan, Côte d\'Ivoire
DESCRIPTION:International Agricultural Trade Fair
URL:https://www.markaut.com/fi/fairs/sara-abidjan-c-te-divoire/
END:VEVENT
END:VCALENDAR
