BEGIN:VCALENDAR
VERSION:2.0
PRODID:-//Markaut//Trade Fair Calendar//EN
CALSCALE:GREGORIAN
METHOD:PUBLISH
BEGIN:VEVENT
UID:rfid-journal-live-las-vegas-united-states-of-america@markaut.com
DTSTAMP:20260421T220046Z
DTSTART;VALUE=DATE:20260519
DTEND;VALUE=DATE:20260522
SUMMARY:RFID Journal Live!
LOCATION:Paris Las Vegas, Las Vegas, United States of America
DESCRIPTION:
URL:https://www.markaut.com/fi/fairs/rfid-journal-live-las-vegas-united-states-of-america/
END:VEVENT
END:VCALENDAR
