BEGIN:VCALENDAR
VERSION:2.0
PRODID:-//Markaut//Trade Fair Calendar//EN
CALSCALE:GREGORIAN
METHOD:PUBLISH
BEGIN:VEVENT
UID:kind-jugend-asean-bangkok-thailand@markaut.com
DTSTAMP:20260422T081017Z
DTSTART;VALUE=DATE:20260422
DTEND;VALUE=DATE:20260423
SUMMARY:Kind + Jugend ASEAN
LOCATION:QSNCC Queen Sirikit National Convention Center, Bangkok, Thailand
DESCRIPTION:The Premier Trade Show for Maternity, Baby & Kids Products in ASEAN
URL:https://www.markaut.com/fi/fairs/kind-jugend-asean-bangkok-thailand/
END:VEVENT
END:VCALENDAR
