BEGIN:VCALENDAR
VERSION:2.0
PRODID:-//Markaut//Trade Fair Calendar//EN
CALSCALE:GREGORIAN
METHOD:PUBLISH
BEGIN:VEVENT
UID:kes-seoul-korea-republic@markaut.com
DTSTAMP:20260422T043052Z
DTSTART;VALUE=DATE:20261001
DTEND;VALUE=DATE:20261002
SUMMARY:KES
LOCATION:COEX Convention & Exhibition Center, Seoul, Korea, Republic
DESCRIPTION:Korea Electronics Show
URL:https://www.markaut.com/fi/fairs/kes-seoul-korea-republic/
END:VEVENT
END:VCALENDAR
