BEGIN:VCALENDAR
VERSION:2.0
PRODID:-//Markaut//Trade Fair Calendar//EN
CALSCALE:GREGORIAN
METHOD:PUBLISH
BEGIN:VEVENT
UID:jarl-ham-fair-tokyo-japan@markaut.com
DTSTAMP:20260422T043126Z
DTSTART;VALUE=DATE:20260801
DTEND;VALUE=DATE:20260802
SUMMARY:JARL Ham Fair
LOCATION:Ariake GYM-EX, Tokyo, Japan
DESCRIPTION:Amateur Radio Exhibition
URL:https://www.markaut.com/fi/fairs/jarl-ham-fair-tokyo-japan/
END:VEVENT
END:VCALENDAR
