BEGIN:VCALENDAR
VERSION:2.0
PRODID:-//Markaut//Trade Fair Calendar//EN
CALSCALE:GREGORIAN
METHOD:PUBLISH
BEGIN:VEVENT
UID:hr-innovation-tech-fest-sydney-australia@markaut.com
DTSTAMP:20260422T043127Z
DTSTART;VALUE=DATE:20260422
DTEND;VALUE=DATE:20260423
SUMMARY:HR Innovation & Tech Fest
LOCATION:Hyatt Regency Sydney, Sydney, Australia
DESCRIPTION:HR Innovation & Tech Fest
URL:https://www.markaut.com/fi/fairs/hr-innovation-tech-fest-sydney-australia/
END:VEVENT
END:VCALENDAR
