BEGIN:VCALENDAR
VERSION:2.0
PRODID:-//Markaut//Trade Fair Calendar//EN
CALSCALE:GREGORIAN
METHOD:PUBLISH
BEGIN:VEVENT
UID:host-milano-milan-italy@markaut.com
DTSTAMP:20260420T060823Z
DTSTART;VALUE=DATE:20271001
DTEND;VALUE=DATE:20271002
SUMMARY:HOST MILANO
LOCATION:fieramilano (Rho), Milan, Italy
DESCRIPTION:Equipment, Coffe and Food - International Hospitality Exhibition
URL:https://www.markaut.com/fi/fairs/host-milano-milan-italy/
END:VEVENT
END:VCALENDAR
