BEGIN:VCALENDAR
VERSION:2.0
PRODID:-//Markaut//Trade Fair Calendar//EN
CALSCALE:GREGORIAN
METHOD:PUBLISH
BEGIN:VEVENT
UID:foodex-japan-tokyo-japan@markaut.com
DTSTAMP:20260419T212402Z
DTSTART;VALUE=DATE:20260420
DTEND;VALUE=DATE:20260421
SUMMARY:FOODEX JAPAN
LOCATION:Tokyo Big Sight, Tokyo International Exhibition Center, Tokyo, Japan
DESCRIPTION:International Food & Beverage Exhibition
URL:https://www.markaut.com/fi/fairs/foodex-japan-tokyo-japan/
END:VEVENT
END:VCALENDAR
