BEGIN:VCALENDAR
VERSION:2.0
PRODID:-//Markaut//Trade Fair Calendar//EN
CALSCALE:GREGORIAN
METHOD:PUBLISH
BEGIN:VEVENT
UID:expo-antad-alimentaria-m-xico-guadalajara-mexico@markaut.com
DTSTAMP:20260420T061145Z
DTSTART;VALUE=DATE:20260420
DTEND;VALUE=DATE:20260421
SUMMARY:Expo Antad & Alimentaria México
LOCATION:Expo Guadalajara Exposiciones, Congresos y Convenciones, Guadalajara, Mexico
DESCRIPTION:The International Food, Drinks and Food Service Exhibition
URL:https://www.markaut.com/fi/fairs/expo-antad-alimentaria-m-xico-guadalajara-mexico/
END:VEVENT
END:VCALENDAR
