BEGIN:VCALENDAR
VERSION:2.0
PRODID:-//Markaut//Trade Fair Calendar//EN
CALSCALE:GREGORIAN
METHOD:PUBLISH
BEGIN:VEVENT
UID:embedded-world-nuremberg-germany@markaut.com
DTSTAMP:20260422T042829Z
DTSTART;VALUE=DATE:20260422
DTEND;VALUE=DATE:20260423
SUMMARY:embedded world
LOCATION:Messezentrum, Nuremberg, Germany
DESCRIPTION:Exhibition&Conference
URL:https://www.markaut.com/fi/fairs/embedded-world-nuremberg-germany/
END:VEVENT
END:VCALENDAR
