BEGIN:VCALENDAR
VERSION:2.0
PRODID:-//Markaut//Trade Fair Calendar//EN
CALSCALE:GREGORIAN
METHOD:PUBLISH
BEGIN:VEVENT
UID:egx-london-london-united-kingdom-of-great-britain-and-northern-ireland@markaut.com
DTSTAMP:20260423T150635Z
DTSTART;VALUE=DATE:20271001
DTEND;VALUE=DATE:20271002
SUMMARY:EGX London
LOCATION:ExCeL London, London, United Kingdom of Great Britain and Northern Ireland
DESCRIPTION:
URL:https://www.markaut.com/fi/fairs/egx-london-london-united-kingdom-of-great-britain-and-northern-ireland/
END:VEVENT
END:VCALENDAR
