BEGIN:VCALENDAR
VERSION:2.0
PRODID:-//Markaut//Trade Fair Calendar//EN
CALSCALE:GREGORIAN
METHOD:PUBLISH
BEGIN:VEVENT
UID:digital-construction-week-london-united-kingdom-of-great-britain-and-northern-ireland@markaut.com
DTSTAMP:20260422T043849Z
DTSTART;VALUE=DATE:20260601
DTEND;VALUE=DATE:20260602
SUMMARY:Digital Construction Week
LOCATION:ExCeL London, London, United Kingdom of Great Britain and Northern Ireland
DESCRIPTION:Innovation in the Built Environment
URL:https://www.markaut.com/fi/fairs/digital-construction-week-london-united-kingdom-of-great-britain-and-northern-ireland/
END:VEVENT
END:VCALENDAR
