BEGIN:VCALENDAR
VERSION:2.0
PRODID:-//Markaut//Trade Fair Calendar//EN
CALSCALE:GREGORIAN
METHOD:PUBLISH
BEGIN:VEVENT
UID:defea-athens-greece@markaut.com
DTSTAMP:20260419T145542Z
DTSTART;VALUE=DATE:20270501
DTEND;VALUE=DATE:20270502
SUMMARY:DEFEA
LOCATION:Metropolitan Expo, Athens, Greece
DESCRIPTION:International Defence & Security Exhibition
URL:https://www.markaut.com/fi/fairs/defea-athens-greece/
END:VEVENT
END:VCALENDAR
