BEGIN:VCALENDAR
VERSION:2.0
PRODID:-//Markaut//Trade Fair Calendar//EN
CALSCALE:GREGORIAN
METHOD:PUBLISH
BEGIN:VEVENT
UID:danfish-international-aalborg-denmark@markaut.com
DTSTAMP:20260422T042931Z
DTSTART;VALUE=DATE:20271001
DTEND;VALUE=DATE:20271002
SUMMARY:DanFish International
LOCATION:Aalborg Kongres & Kultur Center, Aalborg, Denmark
DESCRIPTION:Int. Trade Fair for Equipment to the Fishing Industry
URL:https://www.markaut.com/fi/fairs/danfish-international-aalborg-denmark/
END:VEVENT
END:VCALENDAR
