BEGIN:VCALENDAR
VERSION:2.0
PRODID:-//Markaut//Trade Fair Calendar//EN
CALSCALE:GREGORIAN
METHOD:PUBLISH
BEGIN:VEVENT
UID:cab-sat-dubai-formerly-cabsat-mena-dubai-united-arab-emirates@markaut.com
DTSTAMP:20260422T043508Z
DTSTART;VALUE=DATE:20260422
DTEND;VALUE=DATE:20260423
SUMMARY:Cab Sat Dubai (formerly CABSAT MENA)
LOCATION:Dubai International Convention & Exhibition Centre - Dubai World Trade Centre (DWTC), Dubai, United Arab Emirates
DESCRIPTION:Middle East International Cable, Satellite, Broadcast & Communications Exhibition
URL:https://www.markaut.com/fi/fairs/cab-sat-dubai-formerly-cabsat-mena-dubai-united-arab-emirates/
END:VEVENT
END:VCALENDAR
