BEGIN:VCALENDAR
VERSION:2.0
PRODID:-//Markaut//Trade Fair Calendar//EN
CALSCALE:GREGORIAN
METHOD:PUBLISH
BEGIN:VEVENT
UID:asia-pacific-maritime-apm-singapore-singapore@markaut.com
DTSTAMP:20260422T043300Z
DTSTART;VALUE=DATE:20260422
DTEND;VALUE=DATE:20260423
SUMMARY:ASIA PACIFIC MARITIME (APM)
LOCATION:Marina Bay Sands Expo and Convention Center, Singapore, Singapore
DESCRIPTION:The Premier Maritime Event
URL:https://www.markaut.com/fi/fairs/asia-pacific-maritime-apm-singapore-singapore/
END:VEVENT
END:VCALENDAR
