BEGIN:VCALENDAR
VERSION:2.0
PRODID:-//Markaut//Trade Fair Calendar//EN
CALSCALE:GREGORIAN
METHOD:PUBLISH
BEGIN:VEVENT
UID:apimell-piacenza-italy@markaut.com
DTSTAMP:20260424T085159Z
DTSTART;VALUE=DATE:20261001
DTEND;VALUE=DATE:20261002
SUMMARY:APIMELL
LOCATION:PiacenzaExpo, Piacenza, Italy
DESCRIPTION:International Trade Fair of Beekeeping, Apiary Products and Equipment
URL:https://www.markaut.com/fi/fairs/apimell-piacenza-italy/
END:VEVENT
END:VCALENDAR
