BEGIN:VCALENDAR
VERSION:2.0
PRODID:-//Markaut//Trade Fair Calendar//EN
CALSCALE:GREGORIAN
METHOD:PUBLISH
BEGIN:VEVENT
UID:agromalim-arad-romania@markaut.com
DTSTAMP:20260419T120609Z
DTSTART;VALUE=DATE:20260901
DTEND;VALUE=DATE:20260902
SUMMARY:Agromalim
LOCATION:Expo Arad International, Arad, Romania
DESCRIPTION:International Fair for Agriculture and Foodstuff Industry, Equipment for the Food and Packaging Industry
URL:https://www.markaut.com/fi/fairs/agromalim-arad-romania/
END:VEVENT
END:VCALENDAR
