BEGIN:VCALENDAR
VERSION:2.0
PRODID:-//Markaut//Trade Fair Calendar//EN
CALSCALE:GREGORIAN
METHOD:PUBLISH
BEGIN:VEVENT
UID:agrarmesse-alpen-adria-klagenfurt-austria@markaut.com
DTSTAMP:20260420T064030Z
DTSTART;VALUE=DATE:20260420
DTEND;VALUE=DATE:20260421
SUMMARY:Agrarmesse Alpen-Adria
LOCATION:Die Kärntner Messen, Klagenfurt, Austria
DESCRIPTION:Fachmesse für Land- und Hoftechnik, Futtermittel, Saatgut, Lebensmittel und Vermarktung
URL:https://www.markaut.com/fi/fairs/agrarmesse-alpen-adria-klagenfurt-austria/
END:VEVENT
END:VCALENDAR
