BEGIN:VCALENDAR
VERSION:2.0
PRODID:-//Markaut//Trade Fair Calendar//EN
CALSCALE:GREGORIAN
METHOD:PUBLISH
BEGIN:VEVENT
UID:vinexpo-asia-hong-kong-hong-kong-china-sar@markaut.com
DTSTAMP:20260424T084736Z
DTSTART;VALUE=DATE:20260424
DTEND;VALUE=DATE:20260425
SUMMARY:VINEXPO Asia
LOCATION:Hong Kong Convention and Exhibition Centre, Hong Kong, Hong Kong, China SAR
DESCRIPTION:International Wine & Spirits Exhibition for Asia
URL:https://www.markaut.com/es/fairs/vinexpo-asia-hong-kong-hong-kong-china-sar/
END:VEVENT
END:VCALENDAR
