BEGIN:VCALENDAR
VERSION:2.0
PRODID:-//Markaut//Trade Fair Calendar//EN
CALSCALE:GREGORIAN
METHOD:PUBLISH
BEGIN:VEVENT
UID:new-york-international-auto-show-new-york-united-states-of-america@markaut.com
DTSTAMP:20260419T190011Z
DTSTART;VALUE=DATE:20260419
DTEND;VALUE=DATE:20260420
SUMMARY:New York International Auto Show
LOCATION:Jacob K. Javits Convention Center, New York, United States of America
DESCRIPTION:New York International Auto Show
URL:https://www.markaut.com/es/fairs/new-york-international-auto-show-new-york-united-states-of-america/
END:VEVENT
END:VCALENDAR
