BEGIN:VCALENDAR
VERSION:2.0
PRODID:-//Markaut//Trade Fair Calendar//EN
CALSCALE:GREGORIAN
METHOD:PUBLISH
BEGIN:VEVENT
UID:move-london-united-kingdom-of-great-britain-and-northern-ireland@markaut.com
DTSTAMP:20260420T031441Z
DTSTART;VALUE=DATE:20260601
DTEND;VALUE=DATE:20260602
SUMMARY:MOVE
LOCATION:ExCeL London, London, United Kingdom of Great Britain and Northern Ireland
DESCRIPTION:Mobility Event
URL:https://www.markaut.com/es/fairs/move-london-united-kingdom-of-great-britain-and-northern-ireland/
END:VEVENT
END:VCALENDAR
