BEGIN:VCALENDAR
VERSION:2.0
PRODID:-//Markaut//Trade Fair Calendar//EN
CALSCALE:GREGORIAN
METHOD:PUBLISH
BEGIN:VEVENT
UID:la-auto-show-los-angeles-united-states-of-america@markaut.com
DTSTAMP:20260420T033714Z
DTSTART;VALUE=DATE:20261101
DTEND;VALUE=DATE:20261102
SUMMARY:LA Auto Show
LOCATION:Los Angeles Convention Center, Los Angeles, United States of America
DESCRIPTION:
URL:https://www.markaut.com/es/fairs/la-auto-show-los-angeles-united-states-of-america/
END:VEVENT
END:VCALENDAR
