BEGIN:VCALENDAR
VERSION:2.0
PRODID:-//Markaut//Trade Fair Calendar//EN
CALSCALE:GREGORIAN
METHOD:PUBLISH
BEGIN:VEVENT
UID:kulinarik-salzburg-salzburg-austria@markaut.com
DTSTAMP:20260420T061145Z
DTSTART;VALUE=DATE:20260420
DTEND;VALUE=DATE:20260421
SUMMARY:Kulinarik Salzburg
LOCATION:Messezentrum Salzburg, Salzburg, Austria
DESCRIPTION:Culinary Salzburg - A festival of pleasure for everyone
URL:https://www.markaut.com/es/fairs/kulinarik-salzburg-salzburg-austria/
END:VEVENT
END:VCALENDAR
