BEGIN:VCALENDAR
VERSION:2.0
PRODID:-//Markaut//Trade Fair Calendar//EN
CALSCALE:GREGORIAN
METHOD:PUBLISH
BEGIN:VEVENT
UID:iwa-kuching-malaysia@markaut.com
DTSTAMP:20260420T020840Z
DTSTART;VALUE=DATE:20280801
DTEND;VALUE=DATE:20280802
SUMMARY:IWA
LOCATION:Borneo Convention Centre, Kuching, Malaysia
DESCRIPTION:World Water Congress and Exhibition
URL:https://www.markaut.com/es/fairs/iwa-kuching-malaysia/
END:VEVENT
END:VCALENDAR
