BEGIN:VCALENDAR
VERSION:2.0
PRODID:-//Markaut//Trade Fair Calendar//EN
CALSCALE:GREGORIAN
METHOD:PUBLISH
BEGIN:VEVENT
UID:indo-livestock-expo-forum-not-yet-determined-indonesia@markaut.com
DTSTAMP:20260420T013912Z
DTSTART;VALUE=DATE:20270701
DTEND;VALUE=DATE:20270702
SUMMARY:Indo Livestock Expo & Forum
LOCATION:noch offen/not yet determined, not yet determined, Indonesia
DESCRIPTION:
URL:https://www.markaut.com/es/fairs/indo-livestock-expo-forum-not-yet-determined-indonesia/
END:VEVENT
END:VCALENDAR
