BEGIN:VCALENDAR
VERSION:2.0
PRODID:-//Markaut//Trade Fair Calendar//EN
CALSCALE:GREGORIAN
METHOD:PUBLISH
BEGIN:VEVENT
UID:educa-helsinki-finland@markaut.com
DTSTAMP:20260423T210222Z
DTSTART;VALUE=DATE:20260424
DTEND;VALUE=DATE:20260425
SUMMARY:EDUCA
LOCATION:Messukeskus (Helsinki Exhibition and Convention Centre), Helsinki, Finland
DESCRIPTION:Education and Teaching Materials Fair
URL:https://www.markaut.com/es/fairs/educa-helsinki-finland/
END:VEVENT
END:VCALENDAR
