BEGIN:VCALENDAR
VERSION:2.0
PRODID:-//Markaut//Trade Fair Calendar//EN
CALSCALE:GREGORIAN
METHOD:PUBLISH
BEGIN:VEVENT
UID:dhaka-motor-show-dhaka-bangladesh@markaut.com
DTSTAMP:20260424T142134Z
DTSTART;VALUE=DATE:20260423
DTEND;VALUE=DATE:20260426
SUMMARY:Dhaka Motor Show
LOCATION:International Convention City Bashundhara, Dhaka, Bangladesh
DESCRIPTION:
URL:https://www.markaut.com/es/fairs/dhaka-motor-show-dhaka-bangladesh/
END:VEVENT
END:VCALENDAR
