BEGIN:VCALENDAR
VERSION:2.0
PRODID:-//Markaut//Trade Fair Calendar//EN
CALSCALE:GREGORIAN
METHOD:PUBLISH
BEGIN:VEVENT
UID:child-edu-care-japan-tokyo-japan@markaut.com
DTSTAMP:20260424T121554Z
DTSTART;VALUE=DATE:20271101
DTEND;VALUE=DATE:20271102
SUMMARY:Child Edu & Care Japan
LOCATION:Tokyo Metropolitan Industrial Trade Center Hamamatsucho-Kan., Tokyo, Japan
DESCRIPTION:Trade Fair for Products and Services around Childcare and Education
URL:https://www.markaut.com/es/fairs/child-edu-care-japan-tokyo-japan/
END:VEVENT
END:VCALENDAR
