BEGIN:VCALENDAR
VERSION:2.0
PRODID:-//Markaut//Trade Fair Calendar//EN
CALSCALE:GREGORIAN
METHOD:PUBLISH
BEGIN:VEVENT
UID:ausa-annual-meeting-exposition-washington-united-states-of-america@markaut.com
DTSTAMP:20260419T200846Z
DTSTART;VALUE=DATE:20271001
DTEND;VALUE=DATE:20271002
SUMMARY:AUSA Annual Meeting & Exposition
LOCATION:Walter E. Washington Convention Center, Washington, United States of America
DESCRIPTION:
URL:https://www.markaut.com/es/fairs/ausa-annual-meeting-exposition-washington-united-states-of-america/
END:VEVENT
END:VCALENDAR
