BEGIN:VCALENDAR
VERSION:2.0
PRODID:-//Markaut//Trade Fair Calendar//EN
CALSCALE:GREGORIAN
METHOD:PUBLISH
BEGIN:VEVENT
UID:mte-medtravelexpo-moscow-russia@markaut.com
DTSTAMP:20260419T195433Z
DTSTART;VALUE=DATE:20271201
DTEND;VALUE=DATE:20271202
SUMMARY:MTE MedTravelExpo
LOCATION:EXPOCENTRE, Moscow, Russia
DESCRIPTION:International Exhibition for Medical and Wellness Services, Health Improvement and Medical Treatment
URL:https://www.markaut.com/en/fairs/mte-medtravelexpo-moscow-russia/
END:VEVENT
END:VCALENDAR
