BEGIN:VCALENDAR
VERSION:2.0
PRODID:-//Markaut//Trade Fair Calendar//EN
CALSCALE:GREGORIAN
METHOD:PUBLISH
BEGIN:VEVENT
UID:mipim-asia-hong-kong-hong-kong-china-sar@markaut.com
DTSTAMP:20260422T071151Z
DTSTART;VALUE=DATE:20261201
DTEND;VALUE=DATE:20261202
SUMMARY:MIPIM Asia
LOCATION:Grand Hyatt Hotel, Hong Kong, Hong Kong, China SAR
DESCRIPTION:The World\'s Property Market in Asia Pacific
URL:https://www.markaut.com/en/fairs/mipim-asia-hong-kong-hong-kong-china-sar/
END:VEVENT
END:VCALENDAR
