BEGIN:VCALENDAR
VERSION:2.0
PRODID:-//Markaut//Trade Fair Calendar//EN
CALSCALE:GREGORIAN
METHOD:PUBLISH
BEGIN:VEVENT
UID:yapi-turkeybuild-istanbul-istanbul-t-rkiye@markaut.com
DTSTAMP:20260422T042137Z
DTSTART;VALUE=DATE:20260422
DTEND;VALUE=DATE:20260423
SUMMARY:YAPI - TurkeyBuild Istanbul
LOCATION:Tüyap Fair Convention and Congress Center, Istanbul, Türkiye
DESCRIPTION:International Building, Construction Materials and Technologies Exhibition
URL:https://www.markaut.com/de/fairs/yapi-turkeybuild-istanbul-istanbul-t-rkiye/
END:VEVENT
END:VCALENDAR
