BEGIN:VCALENDAR
VERSION:2.0
PRODID:-//Markaut//Trade Fair Calendar//EN
CALSCALE:GREGORIAN
METHOD:PUBLISH
BEGIN:VEVENT
UID:world-of-coffee-asia-not-yet-determined-indonesia@markaut.com
DTSTAMP:20260424T143326Z
DTSTART;VALUE=DATE:20270501
DTEND;VALUE=DATE:20270502
SUMMARY:World of Coffee Asia
LOCATION:noch offen/not yet determined, not yet determined, Indonesia
DESCRIPTION:
URL:https://www.markaut.com/de/fairs/world-of-coffee-asia-not-yet-determined-indonesia/
END:VEVENT
END:VCALENDAR
