BEGIN:VCALENDAR
VERSION:2.0
PRODID:-//Markaut//Trade Fair Calendar//EN
CALSCALE:GREGORIAN
METHOD:PUBLISH
BEGIN:VEVENT
UID:wooe-madrid-spain@markaut.com
DTSTAMP:20260421T174245Z
DTSTART;VALUE=DATE:20260421
DTEND;VALUE=DATE:20260422
SUMMARY:WOOE
LOCATION:IFEMA Feria de Madrid, Madrid, Spain
DESCRIPTION:World Olive Oil Exhibition
URL:https://www.markaut.com/de/fairs/wooe-madrid-spain/
END:VEVENT
END:VCALENDAR
